BEGIN:VCALENDAR
VERSION:2.0
PRODID:KKTIX
CALSCALE:GREGORIAN
METHOD:PUBLISH
BEGIN:VTIMEZONE
TZID:Asia/Taipei
END:VTIMEZONE
BEGIN:VEVENT
DTSTAMP:20260422T111516Z
UID:eb259c9b-36d4-411f-b62b-3f86a7c9027e
DTSTART:20260704T113000Z
DTEND:20260704T130000Z
CLASS:PUBLIC
DESCRIPTION:https://littlemountainspring1.kktix.cc/events/gweilee2026
LOCATION: (臺北市南港區市民大道八段 99 號) 臺北流行音樂
 中心 Live House D
SUMMARY:《太陽的旋律：第零話》李晉瑋 G.WeiLee 2026 個人專
 場
END:VEVENT
END:VCALENDAR
